BEGIN:VCALENDAR
VERSION:2.0
PRODID:-//Social Butterflies Foundation - ECPv6.15.16//NONSGML v1.0//EN
CALSCALE:GREGORIAN
METHOD:PUBLISH
X-ORIGINAL-URL:https://socialbutterfliesfoundation.org
X-WR-CALDESC:Events for Social Butterflies Foundation
REFRESH-INTERVAL;VALUE=DURATION:PT1H
X-Robots-Tag:noindex
X-PUBLISHED-TTL:PT1H
BEGIN:VTIMEZONE
TZID:UTC
BEGIN:STANDARD
TZOFFSETFROM:+0000
TZOFFSETTO:+0000
TZNAME:UTC
DTSTART:20220101T000000
END:STANDARD
END:VTIMEZONE
BEGIN:VEVENT
DTSTART;TZID=UTC:20230607T170000
DTEND;TZID=UTC:20230607T170000
DTSTAMP:20260425T011657
CREATED:20230301T220447Z
LAST-MODIFIED:20230302T181738Z
UID:4108-1686157200-1686157200@socialbutterfliesfoundation.org
SUMMARY:Comedy Show Fundraiser
DESCRIPTION:Living with lupus and fibromyalgia is no joke\, but sometimes you have to Laugh Through the Pain to keep from crying. \n\n\n\nJoin us on Wednesday\, June 7th at Cozzy’s Comedy Club in Newport News as we welcome home actress and comedienne Cocoa Brown for the Laugh Through the Pain Comedy Show Fundraiser. We are raising awareness and funds for lupus and fibromyalgia. You are guaranteed to laugh the night away with two of Hampton Roads’ favorite comedians Scrap Dooley and Quincy Carr! The beautiful and hilarious Cocoa Brown will definitely have you laughing any pain away! \n\n\n\n\n\nDoors open at 5:00 PM and the show begins at 6:30 PM. \n\n\n\nDo not miss out on this experience. For more information\, please email info@socialbutterfliesfoundation.org
URL:https://socialbutterfliesfoundation.org/event/4108/
LOCATION:COZZYS COMEDY CLUB & TAVERN\, 9700 WARWICK BLVD\, NEWPORT NEWS\, Virginia\, 23601\, United States
ATTACH;FMTTYPE=image/jpeg:https://socialbutterfliesfoundation.org/wp-content/uploads/2023/03/comedy-show-fundraiser.jpeg
END:VEVENT
END:VCALENDAR