BEGIN:VCALENDAR
VERSION:2.0
PRODID:-//Social Butterflies Foundation - ECPv6.15.16//NONSGML v1.0//EN
CALSCALE:GREGORIAN
METHOD:PUBLISH
X-WR-CALNAME:Social Butterflies Foundation
X-ORIGINAL-URL:https://socialbutterfliesfoundation.org
X-WR-CALDESC:Events for Social Butterflies Foundation
REFRESH-INTERVAL;VALUE=DURATION:PT1H
X-Robots-Tag:noindex
X-PUBLISHED-TTL:PT1H
BEGIN:VTIMEZONE
TZID:UTC
BEGIN:STANDARD
TZOFFSETFROM:+0000
TZOFFSETTO:+0000
TZNAME:UTC
DTSTART:20240101T000000
END:STANDARD
END:VTIMEZONE
BEGIN:VEVENT
DTSTART;TZID=UTC:20250713T130000
DTEND;TZID=UTC:20250713T153000
DTSTAMP:20260422T012549
CREATED:20250514T071519Z
LAST-MODIFIED:20250624T191631Z
UID:19754-1752411600-1752420600@socialbutterfliesfoundation.org
SUMMARY:Roll Bounce Bowl for Lupus & Fibro!
DESCRIPTION:Enjoy Some Summer Fun for the Family! \n\n\n\nDate: Sunday\, July 13\, 2025Time: 1:00 PM – 3:30 PM (Extra 30 minutes of fun!)Location: Haygood Skating Center1036 Ferry Plantation Road\, Virginia Beach\, VA 23450 \n\n\n\nAdmission Donation: $25 in advanceTickets are $30 at the door. \n\n\n\nYour ticket includes: \n\n\n\n\nSkate rental\n\n\n\nBowling\n\n\n\nAll-you-can-eat cheese or pepperoni pizza\n\n\n\nUnlimited soft drinks\n\n\n\nBONUS: Kids can now enjoy the playhouse too—just in time for summer break\n\n\n\n\nGrab your tickets now and roll with us to support the lupus and fibromyalgia community in style. \n\n\n\n#RollBounceAndBowl #LupusAwareness #FibromyalgiaAwareness #SocialButterfliesFoundation #FamilyFunForACause \n\n\n\n \n\n\n\n\nGet Tickets
URL:https://socialbutterfliesfoundation.org/event/roll-bounce-bowl-for-lupus-fibro/
LOCATION:Haygood Skating Center\, 1036 Ferry Plantation Road\, Virginia Beach\, Virginia\, 23450\, United States
ATTACH;FMTTYPE=image/png:https://socialbutterfliesfoundation.org/wp-content/uploads/2024/12/Roll-Bounce-and-Bowl-for-Lupus-Fibro-New-Flyer.png
END:VEVENT
BEGIN:VEVENT
DTSTART;TZID=UTC:20250802T130000
DTEND;TZID=UTC:20250802T160000
DTSTAMP:20260422T012549
CREATED:20250630T075535Z
LAST-MODIFIED:20250630T075635Z
UID:19875-1754139600-1754150400@socialbutterfliesfoundation.org
SUMMARY:2025 Butterfly Walk
DESCRIPTION:Join us for the Butterfly Walk for Lupus & FibroSaturday\, August 2\, 2025 | 1–4 PM (Doors open at 12 PM)Boo Williams Sportsplex\, Hampton\, VA \n\n\n\nFeaturing Celebrity Grand Marshal Tina Lifford (Aunt Vi from Queen Sugar)\, host Quincy Carr\, hostess Dizzy the Host\, dance warm-up by Alicia Elaine\, opening devotion by Serena Mann\, and a live performance by Vendetta Ru. \n\n\n\nRegistration: \n\n\n\n\n$50 (In-Person) – Includes official walk shirt and wristband\n\n\n\n$55 (Virtual) – Walk anywhere\, anytime; package mailed to you\n\n\n\n\nBonus: First 50 registrants receive a free copy of The Inner Fitness Revolution by Tina Lifford. \n\n\n\nEnjoy music\, vendors\, community resources\, and a Kids Corner with face painting\, characters\, bounce house\, and more. \n\n\n\nThis isn’t just a walk—it’s a celebration of strength\, unity\, and hope. \n\n\n\nRegister now at www.butterflywalkforlupusandfibro.orgQuestions or sponsorship inquiries: info@mysbf.org
URL:https://socialbutterfliesfoundation.org/event/2025-butterfly-walk/
LOCATION:Boo Williams Sportsplex\, 5 Armistead Pointe Pkwy B\, Hampton\, Virginia\, 23666\, United States
ATTACH;FMTTYPE=image/png:https://socialbutterfliesfoundation.org/wp-content/uploads/2025/06/2025-Butterfly-Walk-Flyer-GM-scaled.png
END:VEVENT
BEGIN:VEVENT
DTSTART;TZID=UTC:20260207T120000
DTEND;TZID=UTC:20260207T133000
DTSTAMP:20260422T012549
CREATED:20251019T092647Z
LAST-MODIFIED:20251019T092648Z
UID:20597-1770465600-1770471000@socialbutterfliesfoundation.org
SUMMARY:Laugh Through the Pain — A Comedy Experience with Heart!
DESCRIPTION:Featuring an All-Star Lineup: \n\n\n\nHosted by Actress & Comedienne Cocoa Brown — known for Tyler Perry’s For Better or Worse\, Single Moms Club\, and more.Big Vino — an authentic\, larger-than-life voice with side-splitting takes on everyday life\, relationships\, and even snack food.Cookie Hull — a 20+ year comedy veteran seen on Snoop Dogg’s Bad Girls of Comedy and Stand Up hosted by Donnell Rawlings (The Chappelle Show).Joe Clair — also known as “Joe Cleezy\,” beloved former host of BET’s Rap City (1994–1999)\, comedian\, actor\, and radio personality.Music by the world-renowned DJ Rick Geez. \n\n\n\nThis isn’t just a comedy show — it’s a celebration of joy\, resilience\, and community.Come for the laughs\, stay for the inspiration\, and help make a difference in the lives of lupus and fibromyalgia thrivers. \n\n\n\nEvent Details:Date: Saturday\, February 7\, 2026Location: Funny Bone Virginia BeachDoors Open: 10:45 AMShowtime: 12 PM – 1:30 PMVIP Meet & Greet: 1:30 PM – 2:30 PM \n\n\n\nGeneral Admission: $37VIP Admission: $47 (Includes Meet & Greet) \n\n\n\nProceeds benefit lupus and fibromyalgia thrivers and their families. \n\n\n\nTickets will sell fast — secure yours today. \n\n\n\n\nRegister now
URL:https://socialbutterfliesfoundation.org/event/laugh-through-the-pain-a-comedy-experience-with-heart/
LOCATION:Virginia
ATTACH;FMTTYPE=image/jpeg:https://socialbutterfliesfoundation.org/wp-content/uploads/2025/10/LTTP-Comedy-Show-Feb-2026.jpg
END:VEVENT
BEGIN:VEVENT
DTSTART;TZID=UTC:20260410T193000
DTEND;TZID=UTC:20260410T220000
DTSTAMP:20260422T012549
CREATED:20260115T183313Z
LAST-MODIFIED:20260213T100127Z
UID:20640-1775849400-1775858400@socialbutterfliesfoundation.org
SUMMARY:Laugh Through the Pain Paint & Sip
DESCRIPTION:Let’s Go Crazy… for a Cause \n\n\n\nTurn up the joy at Laugh Through the Pain Paint & Sip — a Prince-inspired night of art\, laughter\, music\, and healing vibes. This is not your average Paint & Sip; it is a full-on experience designed to help you let go\, laugh loud\, and celebrate life. \n\n\n\nDearly beloved… we are gathered here to have a good time. \n\n\n\nFriday\, April 10\, 2026Doors Open: 7:00 PMPaint & Sip: 7:30–10:00 PMLocation: Dave & Buster’s | Virginia Beach \n\n\n\n$60 Donation Includes: \n\n\n\n\nGuided paint instruction (no experience needed)\n\n\n\nComedy and music\n\n\n\nUnlimited Dave & Buster’s game play card\n\n\n\n\nPainting options (to be revealed): \n\n\n\n\nPrince silhouette\n\n\n\nPrince’s guitar\n\n\n\nPrince’s Love Symbol\n\n\n\n\nEarly Bird Tickets:Limited quantity available for $55 until February 7 or until sold out. \n\n\n\nAll proceeds benefit lupus and fibromyalgia thrivers and their families\, reminding our community that joy is still possible — and powerful. \n\n\n\n\n\n\n\n\n\n\n\n\nRegister now
URL:https://socialbutterfliesfoundation.org/event/laugh-through-the-pain-paint-sip/
LOCATION:Dave & Buster’s\, 701 Lynnhaven Pky\, Suite G19\, Virginia Beach\, Georgia\, United States
ATTACH;FMTTYPE=image/png:https://socialbutterfliesfoundation.org/wp-content/uploads/2026/01/Laugh-Through-the-Pain-Paint-Sip-2.png
END:VEVENT
BEGIN:VEVENT
DTSTART;TZID=UTC:20260424T183000
DTEND;TZID=UTC:20260424T183000
DTSTAMP:20260422T012549
CREATED:20260213T101126Z
LAST-MODIFIED:20260213T101129Z
UID:28076-1777055400-1777055400@socialbutterfliesfoundation.org
SUMMARY:The Michael Experience: Private Fundraiser Screening
DESCRIPTION:🎬 Calling All Michael Jackson Fans! \n\n\n\nPrivate Movie Fundraiser Screening \n\n\n\nGet ready for an unforgettable night as we invite you to a private viewing of the new Michael movie—a powerful cinematic celebration of the life\, legacy\, and impact of the one and only Michael Jackson. \n\n\n\nThis exclusive screening brings fans together for an evening of music\, memories\, and community—while supporting an important cause. \n\n\n\nFriday\, April 24\, 2026VIP Cinemas – Peninsula Town Center4401 W Claiborne Square\, Hampton\, VA 23666 \n\n\n\nDoors Open: 6:30 PMMovie Starts: 7:00 PM \n\n\n\nAdmission Donation: $12 per person• First come\, first served seating• Guests are strongly encouraged to arrive early• No refunds will be issued \n\n\n\nWhether you grew up moonwalking in your living room\, blasting Thriller and Off the Wall\, or simply admire Michael Jackson’s unmatched artistry and influence\, this night is for true fans who want to experience the film together in a fun\, private setting. \n\n\n\nWhy Your Ticket MattersProceeds from this fundraiser support Social Butterflies Foundation\, helping us continue providing programs\, resources\, and direct support for individuals and families living with lupus and fibromyalgia. \n\n\n\nCelebrate the legacy. Enjoy the movie. Support a cause. \n\n\n\nPurchase tickets here: \n\n\n\n\nRegister now\n\n\n\n\nGrab your ticket\, invite your fellow MJ fans\, and join us for a night that’s more than a movie—it’s a moment.
URL:https://socialbutterfliesfoundation.org/event/the-michael-experience-private-fundraiser-screening/
LOCATION:VIP Cinemas – Peninsula Town Center\, 4401 W Claiborne Square\, Hampton\, Virginia\, 23666\, United States
ATTACH;FMTTYPE=image/png:https://socialbutterfliesfoundation.org/wp-content/uploads/2026/02/Michael-Movie-Fundraiser.png
END:VEVENT
END:VCALENDAR