BEGIN:VCALENDAR
VERSION:2.0
PRODID:-//Social Butterflies Foundation - ECPv6.15.16//NONSGML v1.0//EN
CALSCALE:GREGORIAN
METHOD:PUBLISH
X-WR-CALNAME:Social Butterflies Foundation
X-ORIGINAL-URL:https://socialbutterfliesfoundation.org
X-WR-CALDESC:Events for Social Butterflies Foundation
REFRESH-INTERVAL;VALUE=DURATION:PT1H
X-Robots-Tag:noindex
X-PUBLISHED-TTL:PT1H
BEGIN:VTIMEZONE
TZID:UTC
BEGIN:STANDARD
TZOFFSETFROM:+0000
TZOFFSETTO:+0000
TZNAME:UTC
DTSTART:20220101T000000
END:STANDARD
END:VTIMEZONE
BEGIN:VEVENT
DTSTART;TZID=UTC:20230505T190000
DTEND;TZID=UTC:20230505T213000
DTSTAMP:20260424T060053
CREATED:20230301T215740Z
LAST-MODIFIED:20230302T181454Z
UID:4100-1683313200-1683322200@socialbutterfliesfoundation.org
SUMMARY:Lupus & Fibro Fundraiser 'Glow Vibes'
DESCRIPTION:Join Social Butterflies Foundation for our annual paint night! This year we are enjoying a glow paint night on Cinco de Mayo (May 5th) from 7 until 9:30 PM at Painting with a Twist in Hampton’s Peninsula Town Center! Enjoy wine and refreshments plus you can also BYOB wine. Admission donation ranges from $48-$58 per person depending on your size canvas. \n\n\n\nWe will also be introducing some new add-ons that you may love to have as we get closer to the event date. \n\n\n\nThis event sells out every year\, so do not miss out on all of the fun and activities as we paint for a purpose with the Glow Vibes! \n\n\n\n\n\nThe code is GV23
URL:https://socialbutterfliesfoundation.org/event/lupus-fibro-fundraiser-glow-vibes/
LOCATION:Painting With A Twist\, 1230 Merchant Ln\, Hampton\, Virginia\, United States
ATTACH;FMTTYPE=image/png:https://socialbutterfliesfoundation.org/wp-content/uploads/2023/03/lupas-glow-vibes.png
END:VEVENT
BEGIN:VEVENT
DTSTART;TZID=UTC:20230312T154500
DTEND;TZID=UTC:20230312T173000
DTSTAMP:20260424T060053
CREATED:20230301T215051Z
LAST-MODIFIED:20230302T181700Z
UID:4089-1678635900-1678642200@socialbutterfliesfoundation.org
SUMMARY:CREED Movie Fundraiser
DESCRIPTION:Join us on March 12\, 2023\, at EVO Entertainment located in Peninsula Town Center in Hampton\, for a private viewing of the highly anticipated Creed III starring Michael B. Jordan whose mother is a lupus warrior. Tickets are $12 each. Showtime is promptly at 4 PM. Please arrive by 3:45 PM. Reserved seating is not available. Seating is first come first served\, so we strongly encourage guests to arrive early.
URL:https://socialbutterfliesfoundation.org/event/creed-movie-fundraiser/
LOCATION:EVO Entertainment\, 4401 W Claiborne Square\, Hampton\, Virginia\, 23666\, United States
ATTACH;FMTTYPE=image/jpeg:https://socialbutterfliesfoundation.org/wp-content/uploads/2023/03/Creed-movie-fundraiser.jpeg
END:VEVENT
END:VCALENDAR