BEGIN:VCALENDAR
VERSION:2.0
PRODID:-//Social Butterflies Foundation - ECPv6.15.16//NONSGML v1.0//EN
CALSCALE:GREGORIAN
METHOD:PUBLISH
X-WR-CALNAME:Social Butterflies Foundation
X-ORIGINAL-URL:https://socialbutterfliesfoundation.org
X-WR-CALDESC:Events for Social Butterflies Foundation
REFRESH-INTERVAL;VALUE=DURATION:PT1H
X-Robots-Tag:noindex
X-PUBLISHED-TTL:PT1H
BEGIN:VTIMEZONE
TZID:UTC
BEGIN:STANDARD
TZOFFSETFROM:+0000
TZOFFSETTO:+0000
TZNAME:UTC
DTSTART:20220101T000000
END:STANDARD
END:VTIMEZONE
BEGIN:VEVENT
DTSTART;TZID=UTC:20230916T130000
DTEND;TZID=UTC:20230916T160000
DTSTAMP:20260424T184647
CREATED:20230710T180815Z
LAST-MODIFIED:20230716T185124Z
UID:16394-1694869200-1694880000@socialbutterfliesfoundation.org
SUMMARY:No School Like Old School Dance Fitness Party
DESCRIPTION:Ain’t no party like an old-school party! The highly anticipated No School Like Old School Dance Fitness Party takes place on September 16\, 2023\, at Boo Williams Sportsplex in Hampton from 1:00 PM – 4:00 PM (doors open at noon). We have the best dance fitness instructors in VA ready to party with you to some of your favorite throwback jams. Grab your friends and wear your favorite old-school gear or the color purple to help raise awareness for lupus and fibromyalgia. This is an experience that you do not want to miss!
URL:https://socialbutterfliesfoundation.org/event/no-school-like-old-school-dance-fitness-party/
LOCATION:Boo Williams Sportsplex\, 5 Armistead Pointe Pkwy\, Hampton\, Virginia\, 23666\, United States
ATTACH;FMTTYPE=image/jpeg:https://socialbutterfliesfoundation.org/wp-content/uploads/2023/07/2023-NSLOS.jpg
END:VEVENT
BEGIN:VEVENT
DTSTART;TZID=UTC:20230930T093000
DTEND;TZID=UTC:20230930T180000
DTSTAMP:20260424T184647
CREATED:20230823T185406Z
LAST-MODIFIED:20240420T065912Z
UID:16675-1696066200-1696096800@socialbutterfliesfoundation.org
SUMMARY:Lupus & Fibromyalgia Summit and Health Fair
DESCRIPTION:Social Butterflies Foundation and its sponsor Aurinia invite patients\, caregivers\, and the medical community to join us for a day devoted to those affected by lupus and fibromyalgia. The Lupus & Fibromyalgia Summit and Health Fair provide a variety of discussions led by physicians and other experts dedicated to helping the survivors and the families battling these debilitating illnesses. There will be an abundance of resources from different community organizations available in the health fair including but not limited to various health screenings. Check-in and continental breakfast begin at 9:30 AM. The Summit will begin promptly at 10:00 AM. \n\n\n\nYour free registration includes continental breakfast\, lunch\, and a summit swag bag. \n\n\n\nFor more information\, please email info@socialbutterfliesfoundation.org
URL:https://socialbutterfliesfoundation.org/event/lupus-fibromyalgia-summit-and-health-fair/
LOCATION:Sentara Careplex Hospital\, 3000 Coliseum Dr\, Hampton\, Virginia\, 23666\, United States
ATTACH;FMTTYPE=image/png:https://socialbutterfliesfoundation.org/wp-content/uploads/2023/08/2023-Lupus-Fibro-Summit-and-Health-Fair.png
END:VEVENT
END:VCALENDAR