BEGIN:VCALENDAR
VERSION:2.0
PRODID:-//Social Butterflies Foundation - ECPv6.15.16//NONSGML v1.0//EN
CALSCALE:GREGORIAN
METHOD:PUBLISH
X-ORIGINAL-URL:https://socialbutterfliesfoundation.org
X-WR-CALDESC:Events for Social Butterflies Foundation
REFRESH-INTERVAL;VALUE=DURATION:PT1H
X-Robots-Tag:noindex
X-PUBLISHED-TTL:PT1H
BEGIN:VTIMEZONE
TZID:UTC
BEGIN:STANDARD
TZOFFSETFROM:+0000
TZOFFSETTO:+0000
TZNAME:UTC
DTSTART:20220101T000000
END:STANDARD
END:VTIMEZONE
BEGIN:VEVENT
DTSTART;TZID=UTC:20231119T180000
DTEND;TZID=UTC:20231119T200000
DTSTAMP:20260424T153508
CREATED:20231020T173528Z
LAST-MODIFIED:20231020T174441Z
UID:16701-1700416800-1700424000@socialbutterfliesfoundation.org
SUMMARY: Virtual BINGO
DESCRIPTION:Join us for an exciting evening of virtual BINGO as we raise awareness for lupus and fibromyalgia! Get ready to shout “BINGO!” from the comfort of your own home and win amazing prizes. This online event is perfect for friends and family of all ages. Don’t miss out on the fun! \n\n\n\n\n\n\nGet Tickets
URL:https://socialbutterfliesfoundation.org/event/virtual-bingo/
LOCATION:Virginia
ATTACH;FMTTYPE=image/png:https://socialbutterfliesfoundation.org/wp-content/uploads/2023/10/Fall-Bingo-Night-Flyer.png
END:VEVENT
END:VCALENDAR