BEGIN:VCALENDAR
VERSION:2.0
PRODID:-//Social Butterflies Foundation - ECPv6.15.16//NONSGML v1.0//EN
CALSCALE:GREGORIAN
METHOD:PUBLISH
X-ORIGINAL-URL:https://socialbutterfliesfoundation.org
X-WR-CALDESC:Events for Social Butterflies Foundation
REFRESH-INTERVAL;VALUE=DURATION:PT1H
X-Robots-Tag:noindex
X-PUBLISHED-TTL:PT1H
BEGIN:VTIMEZONE
TZID:UTC
BEGIN:STANDARD
TZOFFSETFROM:+0000
TZOFFSETTO:+0000
TZNAME:UTC
DTSTART:20230101T000000
END:STANDARD
END:VTIMEZONE
BEGIN:VEVENT
DTSTART;TZID=UTC:20240323T170000
DTEND;TZID=UTC:20240323T190000
DTSTAMP:20260424T091136
CREATED:20240123T213720Z
LAST-MODIFIED:20240123T213937Z
UID:16774-1711213200-1711220400@socialbutterfliesfoundation.org
SUMMARY:Bowling with the Easter Bunny Fundraiser
DESCRIPTION:Enjoy a family fun evening of bowling\, raffles\, treats\, plus pictures and games with the Easter Bunny!  \n\n\n\nJoin us at Century Lanes located at 1519 E. Pembroke Avenue in Hampton\, Virginia on Saturday\, March 23\, 2024\, from 5-7 PM. Admission donation is $15 for advanced tickets and $20 at the door. It includes 2 hours of unlimited bowling plus shoe rental. Children 10 and under are free.  \n\n\n\nGather your family and friends to have a great time for a great cause! We look forward to seeing you there.  \n\n\n\n\n\n\n\n\n\nBuy Tickets
URL:https://socialbutterfliesfoundation.org/event/bowling-with-the-easter-bunny-fundraiser/
LOCATION:Century Lanes\, 1519 E Pembroke Ave\, Hampton\, Virginia\, 23663\, United States
ATTACH;FMTTYPE=image/png:https://socialbutterfliesfoundation.org/wp-content/uploads/2024/01/Easter-Bowling-.png
END:VEVENT
END:VCALENDAR